BEGIN:VCALENDAR
VERSION:2.0
PRODID:-//pretix//pretix.eu//
BEGIN:VTIMEZONE
TZID:Europe/Berlin
BEGIN:STANDARD
DTSTART:20001029T040000
RRULE:FREQ=YEARLY;BYDAY=-1SU;BYMONTH=10
TZNAME:CET
TZOFFSETFROM:+0200
TZOFFSETTO:+0100
END:STANDARD
BEGIN:DAYLIGHT
DTSTART:20000326T030000
RRULE:FREQ=YEARLY;BYDAY=-1SU;BYMONTH=3
TZNAME:CEST
TZOFFSETFROM:+0100
TZOFFSETTO:+0200
END:DAYLIGHT
END:VTIMEZONE
BEGIN:VEVENT
UID:pretix-tuppenhof-Music2go2026-0@tickets.tuppenhof.de
DTSTART;TZID=Europe/Berlin:20260823T180000
DTEND;TZID=Europe/Berlin:20260823T190000
DESCRIPTION:Tickets: https://tickets.tuppenhof.de/Music2go2026/\nEinlass: 2
 3.08.2026 17:00\nVeranstalter: Tuppenhof – Museumsförderverein Kaarst e
 .V.
DTSTAMP:20260424T131304Z
LOCATION:Rottes 27\, 41564 Kaarst
SUMMARY:Oper im Espressoformat: „Der Freischütz“ Oper von Carl Maria v
 on Weber
END:VEVENT
END:VCALENDAR
