BEGIN:VCALENDAR
VERSION:2.0
PRODID:-//pretix//pretix.eu//
BEGIN:VTIMEZONE
TZID:Europe/Berlin
BEGIN:STANDARD
DTSTART:20001029T040000
RRULE:FREQ=YEARLY;BYDAY=-1SU;BYMONTH=10
TZNAME:CET
TZOFFSETFROM:+0200
TZOFFSETTO:+0100
END:STANDARD
BEGIN:DAYLIGHT
DTSTART:20000326T030000
RRULE:FREQ=YEARLY;BYDAY=-1SU;BYMONTH=3
TZNAME:CEST
TZOFFSETFROM:+0100
TZOFFSETTO:+0200
END:DAYLIGHT
END:VTIMEZONE
BEGIN:VEVENT
UID:pretix-tuppenhof-sauerkraut-25-0@tickets.tuppenhof.de
DTSTART;TZID=Europe/Berlin:20250923T180000
DTEND;TZID=Europe/Berlin:20250923T190000
DESCRIPTION:Tickets: https://tickets.tuppenhof.de/sauerkraut-25/\nEinlass: 
 23.09.2025 17:00\nVeranstalter: Tuppenhof – Museumsförderverein Kaarst 
 e.V.
DTSTAMP:20260423T084506Z
LOCATION:Rottes 27\, 41564 Kaarst
SUMMARY:Traditionelles Sauerkrautessen – mit Haxe oder Prager Schinken
END:VEVENT
END:VCALENDAR
