BEGIN:VCALENDAR
VERSION:2.0
PRODID:-//pretix//pretix.eu//
BEGIN:VTIMEZONE
TZID:Europe/Berlin
BEGIN:STANDARD
DTSTART:20001029T040000
RRULE:FREQ=YEARLY;BYDAY=-1SU;BYMONTH=10
TZNAME:CET
TZOFFSETFROM:+0200
TZOFFSETTO:+0100
END:STANDARD
BEGIN:DAYLIGHT
DTSTART:20000326T030000
RRULE:FREQ=YEARLY;BYDAY=-1SU;BYMONTH=3
TZNAME:CEST
TZOFFSETFROM:+0100
TZOFFSETTO:+0200
END:DAYLIGHT
END:VTIMEZONE
BEGIN:VEVENT
UID:pretix-tuppenhof-weihnachtslied25-0@tickets.tuppenhof.de
DTSTART;TZID=Europe/Berlin:20251223T170000
DTEND;TZID=Europe/Berlin:20251223T180000
DESCRIPTION:Tickets: https://tickets.tuppenhof.de/weihnachtslied25/\nEinlas
 s: 23.12.2025 16:00\nVeranstalter: Tuppenhof – Museumsförderverein Kaar
 st e.V.
DTSTAMP:20260421T130020Z
LOCATION:Rottes 27\, 41564 Kaarst
SUMMARY:OFFENES SINGEN – LIEDER ZUR WEIHNACHTSZEIT
END:VEVENT
END:VCALENDAR
